BEGIN:VCALENDAR
VERSION:2.0
PRODID:-//Scènes et territoires - ECPv6.2.8.1//NONSGML v1.0//EN
CALSCALE:GREGORIAN
METHOD:PUBLISH
X-WR-CALNAME:Scènes et territoires
X-ORIGINAL-URL:https://www.scenes-territoires.fr
X-WR-CALDESC:évènements pour Scènes et territoires
REFRESH-INTERVAL;VALUE=DURATION:PT1H
X-Robots-Tag:noindex
X-PUBLISHED-TTL:PT1H
BEGIN:VTIMEZONE
TZID:Europe/Paris
BEGIN:DAYLIGHT
TZOFFSETFROM:+0100
TZOFFSETTO:+0200
TZNAME:CEST
DTSTART:20220327T010000
END:DAYLIGHT
BEGIN:STANDARD
TZOFFSETFROM:+0200
TZOFFSETTO:+0100
TZNAME:CET
DTSTART:20221030T010000
END:STANDARD
END:VTIMEZONE
BEGIN:VEVENT
DTSTART;VALUE=DATE:20220404
DTEND;VALUE=DATE:20220409
DTSTAMP:20260420T113402
CREATED:20220111T134153Z
LAST-MODIFIED:20220209T095606Z
UID:2970-1649030400-1649462399@www.scenes-territoires.fr
SUMMARY:Résidence "Le Champ des Possible" à l'arboretum
DESCRIPTION:Les douze comédiens de la compagnie Tout va bien ! sont accueillis au sein de l’arboretum d’Amance\, espace naturel géré par le CPIE Nancy-Champenoux. L’équipe artistique travaillera des improvisation in situ\, s’inspirant des émotions que lui inspirera le lieu.\nL’équipe du CPIE proposera au cours de la semaine une visite sensible de l’arboretum afin de leur faire découvrir les particularités de ce lieu.
URL:https://www.scenes-territoires.fr/evenement/residence-le-champs-des-possible-a-larboretum/
LOCATION:Champenoux
CATEGORIES:CC Seille et Grand Couronné,Résidence
ATTACH;FMTTYPE=image/jpeg:https://www.scenes-territoires.fr/wp-content/uploads/2018/11/LCDP-®G-DE-BAUDREUIL-L1250179.jpg
END:VEVENT
BEGIN:VEVENT
DTSTART;VALUE=DATE:20220423
DTEND;VALUE=DATE:20220424
DTSTAMP:20260420T113402
CREATED:20211027T095748Z
LAST-MODIFIED:20220207T205522Z
UID:2852-1650672000-1650758399@www.scenes-territoires.fr
SUMMARY:"Retours aux sources" Episode #1
DESCRIPTION:Un safari qui va vous replonger dans la période préhistorique du territoire. \nRendez-vous sur le sentier des 4 mares …
URL:https://www.scenes-territoires.fr/evenement/deambulation-1/
LOCATION:Attigny
CATEGORIES:CC Vosges Coté Sud Ouest,Spectacle
END:VEVENT
BEGIN:VEVENT
DTSTART;VALUE=DATE:20220425
DTEND;VALUE=DATE:20220430
DTSTAMP:20260420T113402
CREATED:20211223T080236Z
LAST-MODIFIED:20211223T080236Z
UID:2936-1650844800-1651276799@www.scenes-territoires.fr
SUMMARY:Résidence "Les Hôtes"
DESCRIPTION:VOUS INVITER CHEZ NOUS\nThématique de cette troisième année de résidence de recherche LES HÔTES\, Sébastien Coste et Camille Perrin souhaitent se créer un « chez soi » à la fois poétique et concret qui leur permettra d’expérimenter et d’inviter le public.\nChaque semaine\, la compagnie habitera dans l’espace public où elle mènera ses expérimentations et où elle accueillera le public à l’occasion d’une performance artistique.
URL:https://www.scenes-territoires.fr/evenement/residence-les-hotes-13/
LOCATION:Giriviller
CATEGORIES:CC CC3M,CC Meurthe Mortagne Moselle,Résidence
ATTACH;FMTTYPE=image/jpeg:https://www.scenes-territoires.fr/wp-content/uploads/2021/12/IMG_20200905_144506.jpg
END:VEVENT
BEGIN:VEVENT
DTSTART;VALUE=DATE:20220430
DTEND;VALUE=DATE:20220501
DTSTAMP:20260420T113402
CREATED:20211027T100001Z
LAST-MODIFIED:20220207T205547Z
UID:2855-1651276800-1651363199@www.scenes-territoires.fr
SUMMARY:"Retours aux sources" Episode#2
DESCRIPTION:Le jeu de piste se poursuit à Esley. \nOn remonte la fresque historique pour atteindre le 19e siècle …
URL:https://www.scenes-territoires.fr/evenement/deambulation-2/
LOCATION:Esley
CATEGORIES:CC Vosges Coté Sud Ouest,Spectacle
END:VEVENT
END:VCALENDAR