BEGIN:VCALENDAR
VERSION:2.0
PRODID:-//Scènes et territoires - ECPv6.2.8.1//NONSGML v1.0//EN
CALSCALE:GREGORIAN
METHOD:PUBLISH
X-ORIGINAL-URL:https://www.scenes-territoires.fr
X-WR-CALDESC:évènements pour Scènes et territoires
REFRESH-INTERVAL;VALUE=DURATION:PT1H
X-Robots-Tag:noindex
X-PUBLISHED-TTL:PT1H
BEGIN:VTIMEZONE
TZID:Europe/Paris
BEGIN:DAYLIGHT
TZOFFSETFROM:+0100
TZOFFSETTO:+0200
TZNAME:CEST
DTSTART:20190331T010000
END:DAYLIGHT
BEGIN:STANDARD
TZOFFSETFROM:+0200
TZOFFSETTO:+0100
TZNAME:CET
DTSTART:20191027T010000
END:STANDARD
END:VTIMEZONE
BEGIN:VEVENT
DTSTART;TZID=Europe/Paris:20191013T110000
DTEND;TZID=Europe/Paris:20191013T113000
DTSTAMP:20260420T183412
CREATED:20191005T140254Z
LAST-MODIFIED:20191005T141100Z
UID:1003-1570964400-1570966200@www.scenes-territoires.fr
SUMMARY:"Chutes " / Cie Tout va bien !
DESCRIPTION:A l’occasion de la fête du fruit à Chenicourt\, la Cie Tout va bien! présente une performance théâtrale inspirée d’oeuvres de Shakespeare.
URL:https://www.scenes-territoires.fr/evenement/chutes-cie-tout-va-bien/
LOCATION:Chenicourt\, Chenicourt\, 54610
CATEGORIES:CC Seille et Grand Couronné,Spectacle
ATTACH;FMTTYPE=image/jpeg:https://www.scenes-territoires.fr/wp-content/uploads/2019/05/le-reste-est-silence-bd.jpg
END:VEVENT
BEGIN:VEVENT
DTSTART;TZID=Europe/Paris:20191013T160000
DTEND;TZID=Europe/Paris:20191013T163000
DTSTAMP:20260420T183412
CREATED:20191005T141012Z
LAST-MODIFIED:20191005T141012Z
UID:1006-1570982400-1570984200@www.scenes-territoires.fr
SUMMARY:"Attente" / Cie Tout va bien!
DESCRIPTION:A l’occasion de la fête du fruit à Chenicourt\, la Cie Tout va bien! présente une performance musicale inspirée d’oeuvres de Shakespeare.
URL:https://www.scenes-territoires.fr/evenement/attente-cie-tout-va-bien/
LOCATION:Chenicourt\, Chenicourt\, 54610
CATEGORIES:CC Seille et Grand Couronné,Spectacle
ATTACH;FMTTYPE=image/jpeg:https://www.scenes-territoires.fr/wp-content/uploads/2019/05/le-reste-est-silence-bd.jpg
END:VEVENT
END:VCALENDAR