BEGIN:VCALENDAR
VERSION:2.0
PRODID:-//Scènes et territoires - ECPv6.2.8.1//NONSGML v1.0//EN
CALSCALE:GREGORIAN
METHOD:PUBLISH
X-ORIGINAL-URL:https://www.scenes-territoires.fr
X-WR-CALDESC:évènements pour Scènes et territoires
REFRESH-INTERVAL;VALUE=DURATION:PT1H
X-Robots-Tag:noindex
X-PUBLISHED-TTL:PT1H
BEGIN:VTIMEZONE
TZID:Europe/Paris
BEGIN:DAYLIGHT
TZOFFSETFROM:+0100
TZOFFSETTO:+0200
TZNAME:CEST
DTSTART:20190331T010000
END:DAYLIGHT
BEGIN:STANDARD
TZOFFSETFROM:+0200
TZOFFSETTO:+0100
TZNAME:CET
DTSTART:20191027T010000
END:STANDARD
END:VTIMEZONE
BEGIN:VEVENT
DTSTART;TZID=Europe/Paris:20190928T200000
DTEND;TZID=Europe/Paris:20190928T200000
DTSTAMP:20260420T113705
CREATED:20190724T142934Z
LAST-MODIFIED:20190724T145158Z
UID:875-1569700800-1569700800@www.scenes-territoires.fr
SUMMARY:Lecture Dchèquématte
DESCRIPTION:En prémices de la représentation de Dchèquématte les 5 et 6 novembre prochains à la salle polyvalente de Dombasle-Sur-Meurthe\, la Cie Rêve Général! vous propose de découvrir en amont le texte de son spectacle. \nAdapté du roman jeunesse « Le Fils de l’Ursari » de Xavier-Laurent Petit\, ce spectacle\, écrit par Marilyn Matei\, raconte l’incroyable destin du jeune Ciprian dont la famille vit dans un bidonville en région parisienne. Ciprian doit alors aider les siens à survivre en volant les passants jusqu’au jour où il découvre les échecs en observant les joueurs du jardin du Luxembourg. \nLecture proposée par la compagnie Rêve Général et avec la participations d’habitants du territoire. \nEntrée libre – Tout public à partir de 8 ans \n20h à la Maison Pour Tous d’Hudiviller
URL:https://www.scenes-territoires.fr/evenement/lecture-dchequematte/
LOCATION:MPT Hudiviller\, 15 rue de Rosières\, HUDIVILLER\, 54110
CATEGORIES:CC Sel et Vermois,Spectacle
ATTACH;FMTTYPE=image/jpeg:https://www.scenes-territoires.fr/wp-content/uploads/2018/11/BOY-COULEUR.jpg
END:VEVENT
END:VCALENDAR